BEGIN:VCALENDAR
VERSION:2.0
PRODID:-//Complete Behavioral Health - ECPv6.15.20//NONSGML v1.0//EN
CALSCALE:GREGORIAN
METHOD:PUBLISH
X-WR-CALNAME:Complete Behavioral Health
X-ORIGINAL-URL:https://cbhomaha.com
X-WR-CALDESC:Events for Complete Behavioral Health
REFRESH-INTERVAL;VALUE=DURATION:PT1H
X-Robots-Tag:noindex
X-PUBLISHED-TTL:PT1H
BEGIN:VTIMEZONE
TZID:UTC
BEGIN:STANDARD
TZOFFSETFROM:+0000
TZOFFSETTO:+0000
TZNAME:UTC
DTSTART:20210101T000000
END:STANDARD
END:VTIMEZONE
BEGIN:VEVENT
DTSTART;TZID=UTC:20221231T080000
DTEND;TZID=UTC:20221231T170000
DTSTAMP:20260424T103130
CREATED:20221018T060557Z
LAST-MODIFIED:20221018T060557Z
UID:28559-1672473600-1672506000@cbhomaha.com
SUMMARY:Upcoming fitness/nutrition and Mindset classes
DESCRIPTION:
URL:https://cbhomaha.com/event/upcoming-fitness-nutrition-and-mindset-classes/
CATEGORIES:Fitness/Nutrition
ATTACH;FMTTYPE=image/jpeg:https://cbhomaha.com/wp-content/uploads/2022/09/image12.jpg
END:VEVENT
END:VCALENDAR